BEGIN:VCALENDAR
VERSION:2.0
PRODID:-//Dorpskerk Leur - ECPv6.15.20//NONSGML v1.0//EN
CALSCALE:GREGORIAN
METHOD:PUBLISH
X-WR-CALNAME:Dorpskerk Leur
X-ORIGINAL-URL:https://dorpskerkleur.nl
X-WR-CALDESC:Evenementen voor Dorpskerk Leur
REFRESH-INTERVAL;VALUE=DURATION:PT1H
X-Robots-Tag:noindex
X-PUBLISHED-TTL:PT1H
BEGIN:VTIMEZONE
TZID:UTC
BEGIN:STANDARD
TZOFFSETFROM:+0000
TZOFFSETTO:+0000
TZNAME:UTC
DTSTART:20250101T000000
END:STANDARD
END:VTIMEZONE
BEGIN:VEVENT
DTSTART;TZID=UTC:20260509T100000
DTEND;TZID=UTC:20260509T170000
DTSTAMP:20260421T064741
CREATED:20260306T112215Z
LAST-MODIFIED:20260310T121728Z
UID:603-1778320800-1778346000@dorpskerkleur.nl
SUMMARY:Toren- en Molentocht in het Land van Maas en Waal
DESCRIPTION:De tweede editie van de Toren- en Molentocht in het Land van Maas en Waal. Je kunt dan wandelen of fietsen langs de Dorpskerk in Leur\, de Heilige Judocuskerk in Hernen\, Kasteel Hernen\, de Hernense molen\, de Nederlands Hervormde Kerk in Bergharen\, de Oude Sint-Victorkerk in Batenburg\, de ruïne van Kasteel Batenburg en de Batenburgse molen. \nDe afstanden van de wandelroutes variëren van 3 tot 25 kilometer. De routes lopen door het afwisselende rivierenlandschap met akkers en weilanden omrand door bomen\, heggetjes & knotwilgen en gaan deels over onverharde paden\, zoals graspaden langs sloten en akkerranden. Daarnaast zijn fietsroutes uitgezet met een lengte van 22 tot 42 kilometer.\nBij inschrijving kies je een wandel- of fietsroute en ontvang je een stempelkaart die je bij alle vier de kerkgebouwen kunt laten afstempelen. Je kunt een papieren versie van de route meenemen of deze via een QR-code openen in een wandel- of fietsknooppunten-app.\nAlle locaties dienen als rustpunt waar je je waterfles kunt bijvullen en een kopje koffie of thee kunt drinken. \nDeelname is gratis. De start is vanaf 10.00 uur en om 17.00 uur sluiten de kerkdeuren.
URL:https://dorpskerkleur.nl/agenda/toren-en-molentocht-in-het-land-van-maas-en-waal-2/
CATEGORIES:eendaags
ATTACH;FMTTYPE=image/jpeg:https://dorpskerkleur.nl/wp-content/uploads/2025/03/Flyer-torentocht.jpg
END:VEVENT
BEGIN:VEVENT
DTSTART;TZID=UTC:20260509T100000
DTEND;TZID=UTC:20260509T170000
DTSTAMP:20260421T064741
CREATED:20260409T145448Z
LAST-MODIFIED:20260414T123358Z
UID:620-1778320800-1778346000@dorpskerkleur.nl
SUMMARY:Expositie OneStopWorkshop
DESCRIPTION:Tijdens de Toren- en Molentocht laat OneStopWorkshop in de Dorpskerk van Leur zien wat de resultaten zijn van de keramiekcursussen die zij organiseren. Hun ateliers liggen in Velp en pal tegenover de Dorpskerk in Leur in de boerderijschuur. Dit voormalige bakhuis\, waar vroeger brood werd gebakken\, hebben zij nieuw leven ingeblazen als hun eigen pottenbakhuis. \n 
URL:https://dorpskerkleur.nl/agenda/demonstratie-onestopworkshop/
CATEGORIES:eendaags
ATTACH;FMTTYPE=image/jpeg:https://dorpskerkleur.nl/wp-content/uploads/2026/04/plaatje-pottenbakken-9-mei.jpeg
END:VEVENT
BEGIN:VEVENT
DTSTART;TZID=UTC:20260612T200000
DTEND;TZID=UTC:20260612T220000
DTSTAMP:20260421T064741
CREATED:20251020T092846Z
LAST-MODIFIED:20260408T104546Z
UID:576-1781294400-1781301600@dorpskerkleur.nl
SUMMARY:Kamermuziek Festival: Schubertiade
DESCRIPTION:De 27ste editie van het Kamermuziek Festival in de Dorpskerk in Leur begint met een Schubertiade. \nProgramma\nSchubert – 4 Impromptus\, opus 90\, Nathalia Milstein (piano) en laureaat Young Pianist Foundation (piano)\nSchubert – Fantasie in C groot voor viool en piano\, D. 934\, Mathieu van Bellen (viool) en Omri Epstein (piano)\npauze\nSchubert – Strijkkwintet in C groot\, D. 956\, Maria Milstein (viool)\, Ori Epstein (cello) en jong talent \nToegang: € 17\,50 tot € 22\,50. Meer informatie en kaartverkoop: reizendmuziekgezelschap.com
URL:https://dorpskerkleur.nl/agenda/kamermuziek-festival-tussen-maas-en-waal-2/
CATEGORIES:eendaags
ATTACH;FMTTYPE=image/jpeg:https://dorpskerkleur.nl/wp-content/uploads/2025/04/Mathieu-van-Bellen.jpg
END:VEVENT
BEGIN:VEVENT
DTSTART;TZID=UTC:20260613T200000
DTEND;TZID=UTC:20260613T220000
DTSTAMP:20260421T064741
CREATED:20260408T105446Z
LAST-MODIFIED:20260408T105446Z
UID:609-1781380800-1781388000@dorpskerkleur.nl
SUMMARY:Kamermuziek Festival: La Douce France
DESCRIPTION:Kamermuziek Festival in de Dorpskerk in Leur met La Douce France: Fauré\, Ravel en Chausson. \nProgramma \nMaria Milstein\nFauré – Dolly Suite voor piano quatre-mains\, opus 56\, Nathalia Milstein (piano) en laureaat Young Pianist Foundation (piano)\nRavel – Duo voor viool en cello\, Maria Milstein & Ori Epstein\npauze\nChausson – Concerto voor viool\, piano en strijkkwartet\, opus 21\, Mathieu van Bellen (viool)\, Omri Epstein (piano) en een strijkkwartet geleid door Maria Milstein met jong talent. \nToegang: € 17\,50 tot € 22\,50. Meer informatie en kaartverkoop: reizendmuziekgezelschap.com
URL:https://dorpskerkleur.nl/agenda/kamermuziek-festival-la-douce-france/
CATEGORIES:eendaags
ATTACH;FMTTYPE=image/png:https://dorpskerkleur.nl/wp-content/uploads/2026/04/Nathalia-Milstein.png
END:VEVENT
BEGIN:VEVENT
DTSTART;TZID=UTC:20260614T140000
DTEND;TZID=UTC:20260614T160000
DTSTAMP:20260421T064741
CREATED:20260408T110145Z
LAST-MODIFIED:20260408T110145Z
UID:617-1781445600-1781452800@dorpskerkleur.nl
SUMMARY:Concert Busch Trio en anderen
DESCRIPTION:Kamermuziek Festival in de Dorpskerk in Leur met Mozart en Brahms. \nProgramma\nMozart – Pianotrio (n.t.b.)\, Busch Trio\nDohnanyi – Strijktrio in C groot\, opus 10\, Maria Milstein & jong talent\npauze\nBrahms – Pianokwartet in A groot\, opus 26\, Busch Trio en altviool \nToegang: € 17\,50 tot € 22\,50. Meer informatie en kaartverkoop: reizendmuziekgezelschap.com
URL:https://dorpskerkleur.nl/agenda/concert-busch-trio-en-anderen/
CATEGORIES:eendaags
ATTACH;FMTTYPE=image/jpeg:https://dorpskerkleur.nl/wp-content/uploads/2026/04/Busch-Trio1.jpg
END:VEVENT
END:VCALENDAR